BEGIN:VCALENDAR
VERSION:2.0
PRODID:-// - ECPv6.15.20//NONSGML v1.0//EN
CALSCALE:GREGORIAN
METHOD:PUBLISH
X-ORIGINAL-URL:https://filmbeirat60plus.online
X-WR-CALDESC:Veranstaltungen für 
REFRESH-INTERVAL;VALUE=DURATION:PT1H
X-Robots-Tag:noindex
X-PUBLISHED-TTL:PT1H
BEGIN:VTIMEZONE
TZID:UTC
BEGIN:STANDARD
TZOFFSETFROM:+0000
TZOFFSETTO:+0000
TZNAME:UTC
DTSTART:20210101T000000
END:STANDARD
END:VTIMEZONE
BEGIN:VEVENT
DTSTART;TZID=UTC:20221007T160000
DTEND;TZID=UTC:20221007T180000
DTSTAMP:20260426T002409
CREATED:20221123T202027Z
LAST-MODIFIED:20221123T202027Z
UID:1213-1665158400-1665165600@filmbeirat60plus.online
SUMMARY:AG Filmproduktion
DESCRIPTION:Die AG Filmproduktion erarbeitet Drehbücher und Filmideen.
URL:https://filmbeirat60plus.online/veranstaltung/ag-filmproduktion-1/
CATEGORIES:Interne Arbeitsgruppe
ATTACH;FMTTYPE=image/png:https://filmbeirat60plus.online/wp-content/uploads/2022/10/AG-Filmproduktion.png
END:VEVENT
END:VCALENDAR