BEGIN:VCALENDAR
VERSION:2.0
PRODID:-// - ECPv6.15.20//NONSGML v1.0//EN
CALSCALE:GREGORIAN
METHOD:PUBLISH
X-ORIGINAL-URL:https://filmbeirat60plus.online
X-WR-CALDESC:Veranstaltungen für 
REFRESH-INTERVAL;VALUE=DURATION:PT1H
X-Robots-Tag:noindex
X-PUBLISHED-TTL:PT1H
BEGIN:VTIMEZONE
TZID:UTC
BEGIN:STANDARD
TZOFFSETFROM:+0000
TZOFFSETTO:+0000
TZNAME:UTC
DTSTART:20220101T000000
END:STANDARD
END:VTIMEZONE
BEGIN:VEVENT
DTSTART;TZID=UTC:20230115T140000
DTEND;TZID=UTC:20230115T153000
DTSTAMP:20260425T201706
CREATED:20230117T230327Z
LAST-MODIFIED:20230117T230329Z
UID:1227-1673791200-1673796600@filmbeirat60plus.online
SUMMARY:AG Filmproduktion
DESCRIPTION:Die AG Filmproduktion erarbeitet Drehbücher und Filmideen.
URL:https://filmbeirat60plus.online/veranstaltung/ag-filmproduktion-2/
CATEGORIES:Interne Arbeitsgruppe
ATTACH;FMTTYPE=image/png:https://filmbeirat60plus.online/wp-content/uploads/2022/10/AG-Filmproduktion.png
END:VEVENT
END:VCALENDAR